BEGIN:VCALENDAR
VERSION:2.0
PRODID:-//eventon.com NONSGML v1.0//EN
CALSCALE:GREGORIAN
METHOD:PUBLISH
BEGIN:VEVENT
UID:69e8a0c968cb0
DTSTAMP:20260422T101953Z
DTSTART:20251129T130000Z
DTEND:20251129T170000Z
LOCATION:Chez Haui Linzer Straße 3\,  4223 Katsdorf\,  Österreich
SUMMARY:Partnerworkshop
DESCRIPTION:Wir sind für euch da! Unser Partner Christian veranstaltet in 
 Kooperation mit unserem Team einen Workshop für dich. Am 29.11.2025 findet
  ab 13 Uhr ein Vortrag statt. Danach kannst du mit unserem Team ins Gesprä
 ch kommen und das System vor Ort ausprobieren. Veranstaltungsort: Chez Haui
  Linzer Straße 3 4223 Katsdorf\, [..]\nhttps://frequenz-erleben.com/events
 /live-info-tag-poettmes-schnellmannskreuth-2-2-2-2-2-2-2-2/
URL:https://frequenz-erleben.com/events/live-info-tag-poettmes-schnellmannskreuth-2-2-2-2-2-2-2-2/
END:VEVENT
END:VCALENDAR